BEGIN:VCALENDAR
VERSION:2.0
PRODID: Event
METHOD:PUBLISH
BEGIN:VEVENT
UID:termine/2024/global-change-transformers-wilde-11-modul-7-freitag@https://freiraumsyndikat.com
ORGANIZER;CN="Freiraum Syndikat":MAILTO:info@freiraumsyndikat.com
LOCATION:Wilde 11\nLeipzig Lausen (Grünau)
URL:https://freiraumsyndikat.com/en/termine/2024
SUMMARY:Freiraum Syndikat – GLOBAL CHANGE TRANSFORMERS WILDE 11
CLASS:PUBLIC
DTSTART:20241206T150000
DTEND:20241206T170000
END:VEVENT
END:VCALENDAR
